BEGIN:VCALENDAR
VERSION:2.0
PRODID:-//http://airsoft-cad.si///NONSGML kigkonsult.se iCalcreator 2.10.15//
METHOD:PUBLISH
BEGIN:VEVENT
UID:20260419T164714CEST-8940vteenS@http://airsoft-cad.si/
DTSTAMP:20260419T144714Z
DESCRIPTION:Kaj: delovna akcija - izdelava propov (hiške\, rampe\, ovire za
  trening center\, nasadi\, procesi\,..\nKdaj: sobota\, 9.5.2015&nbsp\;\nZb
 or: 09.00 do 18.00\nKje: PG - pri Tomeku\nNamen delovne akcije je\, da se 
 že pripravijo določeni propi kot so hiške\, rampe\, ovire za trening cente
 r\,.. Naredili bomo eno hiško\, eno rampo\, eno oviro\, si zapisali mere\,
  označili posamezni kos\, izdelali ostale tako\, da jih na terenu samo še 
 sestavimo. S tem si prihranimo čas na samem dogodku. Izdelki bodo spravlje
 ni na istem naslovu kjer bodo narejeni. Vrač pripelji plate\, Splinter vij
 ake in orodje\, ostalo po dogovoru.
DTSTART:20150509T000000Z
LOCATION:Podgaj PG (Podgaj 6a\, 3232 Ponikva\, Slovenija)
SUMMARY:delovna akcija PG v soboto\, 9.5.2015 ob 09.00 do 18.00
END:VEVENT
END:VCALENDAR
