BEGIN:VCALENDAR
VERSION:2.0
PRODID:-//http://airsoft-cad.si///NONSGML kigkonsult.se iCalcreator 2.10.15//
METHOD:PUBLISH
BEGIN:VEVENT
UID:20260419T164746CEST-2514pIZDNN@http://airsoft-cad.si/
DTSTAMP:20260419T144746Z
DESCRIPTION:Kaj: delovna akcija - snemanje\nKdaj: sobota\, 30.5.2015\nKje: 
 šmiklavž pri Ljubečni\nKdo: vsi člani CAD\, novinci\, pripravniki\, družin
 ski člani\n&nbsp\;\nNamen snemanja je predstavitev scenarija AH5 v sliki.&
 nbsp\;\nPripraviti naslednje:- črna uniforma\, vest za MEH. POLICIJO 2kpl-
  zelena uniforma\, vest za BORDER PATROL 2kpl- TAN uniforma\, črn vest za 
 HLS 2kpl- multicam uniforma US military 2kpl- civilna obleka\, slamnik ali
  sombrero 2kpl- civilni spodnji del\, zgornji del vsakega kartela 2kpl- CI
 A ima isti dress code kot karteli in civili- podkape\, bofi\, rute\, šali\
 ,..- zadimljevalec- agregati- RW vozilo- Navara (Splinter)- različna vozil
 a- snemalna oprema&nbsp\;- razsvetljava za efekte- strobo- hiška + rampa\n
 &nbsp\;
DTSTART:20150530T000000Z
LOCATION:šmikla (Zadobrova 110\, 3211 Škofja vas\, Slovenia)
SUMMARY:snemanje ah5 intro filmčkov\, sobota 30.5.2015 ob 09.00 do 17.00 gl
 inokop šmiklavž
END:VEVENT
END:VCALENDAR
