BEGIN:VCALENDAR
VERSION:2.0
PRODID:-//http://airsoft-cad.si///NONSGML kigkonsult.se iCalcreator 2.10.15//
METHOD:PUBLISH
BEGIN:VEVENT
UID:20260419T164323CEST-5850WSrZVw@http://airsoft-cad.si/
DTSTAMP:20260419T144323Z
DESCRIPTION:Kaj: MK spopad - Mednarodni\nKje: Split Hrvaška\nKdo: člani CAD
  z vso predpisano uniformo\nKdaj: vikend med 28.11. in 29.11.2015\nCena: 3
 0eur/osebo (za event) + potni troški (cca 40eur)\n&nbsp\;\nDobili povabili
 o s strani AT LAV iz Splita. Kontaktna oseba Krešo Glavica. Kdor ga pozna 
 ga lahko kontaktira za več informacij. Krešo bi rad vedel\, če smo zainter
 esirani za prihod\, da lahko prične z organizacijo in pripravami za našo p
 risotnost na terenu. Na ta dogodek lahko gredo vsi člani CAD\, ki so plača
 li članarino\, imajo popolno predpisano uniformo in hodijo redno na trenin
 ge\, ki bodo namenjeni temu dogodku. 
DTSTART:20151128T000000Z
DTEND:20151129T235900Z
LOCATION:Split (Poljana kraljice Jelene 5\, 21000\, Split\, Hrvaška)
SUMMARY:MK LAV SPLIT\, 28. - 29.11.2015 by Krešo
END:VEVENT
END:VCALENDAR
