BEGIN:VCALENDAR
VERSION:2.0
PRODID:-//http://airsoft-cad.si///NONSGML kigkonsult.se iCalcreator 2.10.15//
METHOD:PUBLISH
BEGIN:VEVENT
UID:20260419T164214CEST-8501NiaD9v@http://airsoft-cad.si/
DTSTAMP:20260419T144214Z
DESCRIPTION:\nKaj: Občni zbor\nKdo: Člani CAD\nKje:&nbsp\;Gasilski dom Sv. 
 Lovrenc (Sveti Lovrenc 25\, 3312 Prebold) ali na Discordu (odvisno od situ
 acije)\nKdaj: Petek 4.2.2022\nZbor: 19:00\nZačetek: 19:30\nKonec: 22:00\nP
 redlog dnevnega reda občnega zbora 4.2.2022 ob 19:00\n1. Poročilo 2021\n- 
 Realizacija\n- Bilanca\n2.&nbsp\;Seznanitev z višino in načinom pobiranja 
 članarin za 2022\n- Pobiranje članarine na licu mesta takoj po seznanitvi 
 višine članarine\n3. Uskladitev in podaljšanje (neuradnih) vlog članov (vo
 denje treingov\, stiki z javnostjo\, pregled dogodkov)\n4. Načrti 2022\n- 
 Mrčara\n- Dodogki z airsoft zvezo\n- Piknik\n- Zaključek\n- CAD dogodek\n-
  Skupen dogodek z Viking Warriors (DA/NE)?\n- Drugi predlogi?5. Predlog za
  novo klubsko opremo- Predlog razširitve oborožitve- Predlog razširitve če
 lad\n- Predlog razširitve jopičev\n6. Stanje Airsoft Zveze Slovenije (AZS)
 \n7. Prenova in gostovanje spletne strani\n8. Ponovna vzpostavitev terena 
 Hotunje\n9. Razno\n&nbsp\;\n
DTSTART:20220204T190000Z
DTEND:20220204T220000Z
LOCATION:Gasilski dom Sv. Lovrenc (Sveti Lovrenc 25\, 3312 Prebold)
SUMMARY:OBČNI ZBOR 2022
END:VEVENT
END:VCALENDAR
