BEGIN:VCALENDAR
VERSION:2.0
PRODID:-//http://airsoft-cad.si///NONSGML kigkonsult.se iCalcreator 2.10.15//
METHOD:PUBLISH
BEGIN:VEVENT
UID:20260419T164215CEST-2534fj5UPm@http://airsoft-cad.si/
DTSTAMP:20260419T144215Z
DESCRIPTION:Kaj: Občni zbor\nKdo: Člani CAD\nKje:&nbsp\;Gasilski dom Sv. Lo
 vrenc (Sveti Lovrenc 25\, 3312 Prebold)\nKdaj: Petek 20.1.2023\nZbor: 19:0
 0\nZačetek: 19:30\nKonec: 22:00\nPredlog dnevnega reda občnega zbora 20.1.
 2023 ob 19:00\n1. Poročilo 2022\n- Realizacija\n- Bilanca\n2.&nbsp\;Seznan
 itev z višino in načinom pobiranja članarin za 2023\n- Pobiranje članarine
  na licu mesta takoj po seznanitvi višine članarine&nbsp\;(med pobiranjem 
 prispejo zamudniki)\n3. Podaljšanje in ponovna razdelitev (uradnih) vlog m
 ed člane\n- Upravni odbor (Predlog: Marko\, Leo\, Joker\, Kreča)\n- Discip
 linska komisija\n4.&nbsp\;Opredelitev\, dopolnitev in ponovna razdelitev (
 neuradnih) vlog med člane\n- Vodenje treningov\n- Stiki z javnostjo\n- Pre
 gled dogodkov\n5. Načrti 2023\n- Lastovo\n- Dodogki z airsoft zvezo\n- Pik
 nik\n- Zaključek\n- CAD dogodek\n- Sodelovanje z vojsko (sejem)\n- CAD pro
 mo video\n- Drugi predlogi?\n6. Predlog včlanitve v društvo\n7. Predlog za
  novo klubsko opremo\n- Povzetek preteklega leta\n- Predlog za standardiza
 cijo našitkov CAD\n8. Stanje Airsoft Zveze Slovenije (AZS)\n9. Razno\n- Po
 tek treningov\n- Izposoja replik
DTSTART:20230120T190000Z
DTEND:20230120T220000Z
LOCATION:Gasilski dom Sv. Lovrenc (Sveti Lovrenc 25\, 3312 Prebold)
SUMMARY:OBČNI ZBOR 2023
END:VEVENT
END:VCALENDAR
