BEGIN:VCALENDAR
VERSION:2.0
PRODID:-//http://airsoft-cad.si///NONSGML kigkonsult.se iCalcreator 2.10.15//
METHOD:PUBLISH
BEGIN:VEVENT
UID:20260419T163957CEST-7763p1KkIA@http://airsoft-cad.si/
DTSTAMP:20260419T143957Z
DESCRIPTION:Kaj: Medklubski Trening\nKdo: Člani CAD\, novinci in povabljeni
  gosti\nKje:&nbsp\;ZP - Zlato Polje\, koordinate: 46.312194° 15.156278°\nK
 daj: Nedelja\, 27.10.2024\nZbor: 7:30\nZačetek: 8:00\nKonec: ~13:00 + druž
 enje
DTSTART:20241027T073000Z
DTEND:20241027T130000Z
LOCATION:Zlato polje ()
SUMMARY:MEDKLUBSKI TRENING ZP\, 27.10.2024 OB 7:30
END:VEVENT
END:VCALENDAR
