BEGIN:VCALENDAR
VERSION:2.0
PRODID:-//http://airsoft-cad.si///NONSGML kigkonsult.se iCalcreator 2.10.15//
METHOD:PUBLISH
BEGIN:VEVENT
UID:20260419T164209CEST-2383ND337S@http://airsoft-cad.si/
DTSTAMP:20260419T144209Z
DESCRIPTION:\nPovzetek AH4\n&nbsp\;\n&nbsp\;\nZGODBA AH4: \nV majhnem mestu
  San Miguel sredi Mehike je Mehiška policija s pomočjo nacionalne vojske p
 ričela s tako imenovanim čiščenjem mesta. Njen cilj je očistiti ulic prepr
 odajalcev drog\, izkoreniniti kartele\, pridobiti informacije o drug lordu
 \, kateri ima trenutno oblast nad mestom\, ter ponovno vzpostaviti red in 
 mir v mestu.Naloga pa je vse prej kot lahka. \n&nbsp\;\nPolicija je neprič
 akovano vdrla v mesto\, zavarovala pomembne institucije (banko\, bolnico\,
  policijsko postajo\, prodajalna orožja\, vojašnico z zaporom\, šotorsko n
 aselje\, ...) in začasno vzpostavila red in mir v mestnem središču. Poleg 
 tega je pričela iskati vodje posameznih kartelov in drug lorda\, uničevati
  nasade prepovedanih drog\, poskušati zavarovati rudnike srebra in zlata. 
 S pomočjo nacionalne vojske\, policija počasi pridobiva ponovno oblast nad
  mestom San Miguel. Na drugi strani pa karteli še vedno služijo denar s pr
 oizvodnjo in preprodajo prepovedanih drog\, odkupninami ugrabljenih VIP os
 eb\, ter kupujejo orožja\, pomembne informacije in po navodilih drug lorda
  poskušajo pridobiti ponovno oblast nad mestom.\n\n&nbsp\;\n&nbsp\;\nSODEL
 UJOČE STRANI:\n&nbsp\;\n \n- Gulf cartel 30kom - Arrelano Felix cartel 30k
 om - Beltran Leyva cartel 30kom - Los Zetas cartel 30kom - Sinaloa cartel 
 30kom - policija.. 20kom - nacionalna vojska 36kom - sniper team 4kom (2x 
 spotter\, 2x sniper)\n&nbsp\;\nPRAVILA:\n&nbsp\;Autumn Harvest IV - Pravil
 a\n&nbsp\;\nSLIKE:\n&nbsp\;\nUradne slike AH4\n&nbsp\;\n&nbsp\;\nFILMI:\n&
 nbsp\;\nTFT121\nTIGERSCHUTZEN\nAD ENOTA\n&nbsp\;\n&nbsp\;\nREZULTATI:\n&nb
 sp\;\n&nbsp\;\nVRSTNI RED KARTELOV po stanju 'na banki':\n 1. LOS ZETAS 46
 3.500\,00 2. DEL GOLFO 423.800\,00 3. BELTRAN LEYVA 387.100\,00 4. TIJUANA
  -Arellano-Félix 302.800\,00 5. DE DINALOA 218.100\,00\n\n----------------
 -----------------------------------------------------------\n&nbsp\;\nRevi
 ew of AH4\n&nbsp\;\nSTORY AH4:\n&nbsp\;\n&nbsp\;\nIn the small town of San
  Miguel in the middle of Mexico Mexican police with the help of the nation
 al army began with the so called cleaning of the city. Its goal is to clea
 n up the streets of drug traffickers\, destroy the cartels\, obtain inform
 ation on drug lord which currently has authority over the city and restore
  peace and order in the city.However\, the task is not easy. \n&nbsp\;\nTh
 e police suddenly raided the place\, occupied important institutions (bank
 \, hospital\, police station\, gun shop\, barrack\, tent village\, ...) an
 d temporarily restored order and peace in the city center. Then they start
 ed searching for the heads of individual cartels and drug lord\, destroyin
 g crops of illicit drugs\, trying to protect the mines of silver and gold.
  With the help of the national army\, the police is slowly regaining power
  over the city of San Miguel. On the other hand\, the cartels are still ma
 king money with the production and trafficking of illicit drugs\, ransoms 
 from VIP personnel\, buying weapons and important information. Under the g
 uidance of the drug lord they are trying to regain the control of the city
 .\n&nbsp\;\nGAMESITES:\n&nbsp\;\n&nbsp\;\n- Gulf Cartel 30pcs&nbsp\; - Arr
 elano Felix cartel 30pcs&nbsp\; - Beltran Leyva cartel 30pcs&nbsp\; - Los 
 Zetas cartel 30pcs&nbsp\; - Sinaloa cartel 30pcs&nbsp\; - Police .. 20pcs&
 nbsp\; - National army 36pcs&nbsp\; - Sniper team 4pcs (2x spotter\, 2x Sn
 iper) - Civilian population (+16 years) 25pcs\n&nbsp\;\nRULES:\n&nbsp\;\nA
 utumn Harvest IV - Rules\n&nbsp\;\nPICS:\n&nbsp\;\nOfficial pics of AH4\n&
 nbsp\;\nVIDEOS:\n&nbsp\;\nTFT121\nTIGERSCHUTZEN\nAD ENOTA\n&nbsp\;\n&nbsp\
 ;\nRESULTS:\n&nbsp\;\nTransfered money in the bank account:\n 1. LOS ZETAS
  463.500\,00 2. DEL GOLFO 423.800\,00 3. BELTRAN LEYVA 387.100\,00 4. TIJU
 ANA -Arellano-Félix 302.800\,00 5. DE DINALOA 218.100\,00\n&nbsp\;\n\nREVI
 EW OF AUTUMN HARVEST 4 - WAR OF CARTELS\nPoint of a fictitious scenario\, 
 the city of San Miguel\, Mexico (took place in CCL Lenti\, Hungary\, 13092
 014-14092014)\, actually reflect real events happening daily\, clashes bet
 ween representatives of the various cartels for establishing their territo
 rial demands and representatives of regular army and police.\nThe scenario
  that took place was drawn up as clutter events themselves\, with the poss
 ibility of influence by the GM side\, on the individual decisions of carte
 ls. Roleplaying civilian population (LARP) as salesman\, VIPs\, photograph
 ers on the field\, the city mayor\, the banker\, dead people\, who ware in
 tegral in to different parts of the scenarios\, added icing on the cake. T
 eams\, especially representatives of the cartels ware obligated to store t
 heir primary replica in the Gun Shop at the start of the script\, after in
  game\, they could purchase them at Gun Shop for the cost of 5000$\, until
  then\, played with secondary replica (GBB\, GNB\,...)\nMilitary and the p
 olice started scenario with a full gear-u.\nUnits: Gulf cartel\, Tijuana F
 elix cartel\, Beltran Leyva cartel\, Loz Zetas cartel\, De Sinaloa cartel.
  Military\, Police Civilians / LARP non armed\nProps: Vehicles regular com
 position of the military and police\, Game money in the amount of $ 100 an
 d $ 1\,000 bills Raw coca\, Cocaine\, Gold ore\, Silver ore\, Golden thumb
 s\, Silver thumbs\, AT grenade thrower with a paintball grenade\nFacilitie
 s: Gun shop\, Black Market tent Drug Diller tent\, Tent village\, Hospital
  Bank Nacional de Mexico\, with money safe and sound-light alarm for Bank.
  Military barracks with Prison\, Police Station\, Laboratories for raw Cok
 e and Ores of Gold and Silver other CQB facilities\nThe tasks of the teams
  cartels: Orientation of individuals or entire teams was\, to maximize ext
 raction of prey throughout the scenario with robbing the civilian populati
 on or other cartels members\, robbing bank\, a convoy of vehicles with mon
 ey. Locating the location of coca plantations and mines of gold and silver
 \, harvesting of crops of coca plantation and harvesting of raw gold and s
 ilver from the mines. Processing through the LARP laboratory technicians i
 n laboratories ore and drugs\, for a given value of clean raw material or 
 substance in the drug cocaine. Sales through resellers in the tent village
 \, or a deposit on their own account team in the bank. The main objective 
 of the cartel: to earn as much money\, with a view to buying their own pri
 mary airsoft replica from the Gun shop and deposit on their own account un
 til the expiry of the script itself 24 hours game play.\nThe tasks of the 
 military and police was protecting the civilian population and maintaining
  order and peace in the city center and surrounding area\, with a target i
 mplementation of the ROE. Conducting investigations of virtual murder in t
 he town\, interrogate witnesses and suspects of murder\, obtaining informa
 tion from the local population about the locations of plantations of coca\
 , as well as locating to destroy along with members of the Military Forces
 . Additional tasks for the police\; Negotiations for the amount of ransom 
 kidnapped VIPs or obtain appropriate locations dispute. In the night time 
 scenario during curfew was implemented a full control over the town and su
 rrounding area.\nThe tasks of the civilian population throughout the entir
 e part was the sale of a wide range of information to individuals of carte
 ls\; plantations of coca\, VIPs\, convoys of money\, bribery for additiona
 l tasks to cartels\, etc.\n\n
DTSTART:20140912T140000Z
DTEND:20140914T100000Z
LOCATION:Lenti (Lenti\, Hungary)
SUMMARY:Autumn Harvest IV
END:VEVENT
END:VCALENDAR
