BEGIN:VCALENDAR
VERSION:2.0
PRODID:-//http://airsoft-cad.si///NONSGML kigkonsult.se iCalcreator 2.10.15//
METHOD:PUBLISH
BEGIN:VEVENT
UID:20260419T163845CEST-7800FWuUpn@http://airsoft-cad.si/
DTSTAMP:20260419T143845Z
DESCRIPTION:Kaj: Medklubski trening\nKdo: Člani CAD\, novinci in povabljeni
  gosti\nKje:&nbsp\;ZP - Zlato Polje\, koordinate: 46.312194° 15.156278°\nK
 daj: Nedelja\, 27.4.2025\nZbor: 7:30\nZačetek: 8:00\nKonec: ~12:30
DTSTART:20250427T073000Z
DTEND:20250427T123000Z
LOCATION:Zlato polje ()
SUMMARY:MEDKLUBSKI TRENING ZP\, 27.4.2025 OB 7:30
END:VEVENT
END:VCALENDAR
