BEGIN:VCALENDAR
VERSION:2.0
PRODID:-//http://airsoft-cad.si///NONSGML kigkonsult.se iCalcreator 2.10.15//
METHOD:PUBLISH
BEGIN:VEVENT
UID:20260419T144710CEST-2062hiLGVf@http://airsoft-cad.si/
DTSTAMP:20260419T124710Z
DESCRIPTION:Kaj: Trening\nKdo: Člani CAD in novinci\nKje:&nbsp\;ZP - Zlato 
 Polje\, koordinate: 46.312194° 15.156278°\nKdaj: Nedelja\, 21.12.2025\nZbo
 r: 7:30\nZačetek: 8:00\nKonec: ~12:00
DTSTART:20251221T073000Z
DTEND:20251221T120000Z
LOCATION:Zlato polje ()
SUMMARY:TRENING ZP\, 21.12.2025 OB 7:30
END:VEVENT
END:VCALENDAR
