BEGIN:VCALENDAR
VERSION:2.0
PRODID:-//http://airsoft-cad.si///NONSGML kigkonsult.se iCalcreator 2.10.15//
METHOD:PUBLISH
BEGIN:VEVENT
UID:20260419T144709CEST-7356t8D2og@http://airsoft-cad.si/
DTSTAMP:20260419T124709Z
DESCRIPTION:Kaj: Trening\nKdo: Člani CAD in novinci\nKje:&nbsp\;Podgaj 6a\,
 &nbsp\;koordinate: 46.245184\, 15.450457\nKdaj: Nedelja\, 11.1.2026\nZbor:
  7:30\nZačetek: 8:00\nKonec: ~12:00
DTSTART:20260111T073000Z
DTEND:20260111T120000Z
LOCATION:Podgaj PG (Podgaj 6a\, 3232 Ponikva\, Slovenija)
SUMMARY:TRENING ZP\, 11.1.2026 OB 7:30
END:VEVENT
END:VCALENDAR
