BEGIN:VCALENDAR
VERSION:2.0
PRODID:-//http://airsoft-cad.si///NONSGML kigkonsult.se iCalcreator 2.10.15//
METHOD:PUBLISH
BEGIN:VEVENT
UID:20260419T164209CEST-8745tUnxvj@http://airsoft-cad.si/
DTSTAMP:20260419T144209Z
DESCRIPTION:Kaj: Občni zbor\nKdo: Člani CAD\nKje:&nbsp\;Online\nKdaj: Petek
  12.3.2021\nZbor: 19:00\nZačetek: 19:30\nKonec: 21:00\n&nbsp\;\nPodatki za
  dostop bodo objavljeni. V pvi fazi poizkusimo free for all sobo. V primer
 u težev vzspostavimo tiho sobo\, kjer bo\nmožno govoriti samo z odobritvij
 o člana delovnega predsestva.\n&nbsp\;\nPredlog dnevnega reda občnega zbor
 a 12.3.2021 ob 19:00\n1. Poročilo 2020\n- Realizacija\n- Bilanca\n2.&nbsp\
 ;Seznanitev z višino in načinom pobiranja članarin za 2021\n3.&nbsp\;Podal
 jšanje vlog upravnega odbora\n4. Določitev in podaljšanje (neuradnih) vlog
  članov (vodenje treingov\, stiki z javnostjo\, pregled dogodkov)\n5. Načr
 ti 2020\n- Mrčara\n- Piknik\n- Zaključek\n6. Stanje Airsoft Zveze Slovenij
 e (AZS)\n7. Prenova in gostovanje spletne strani\n8. Uporaba BIO BB\n9. Ra
 zno
DTSTART:20210312T190000Z
DTEND:20210312T210000Z
LOCATION:Online ()
SUMMARY:OBČNI ZBOR 2021
END:VEVENT
END:VCALENDAR
