BEGIN:VCALENDAR
VERSION:2.0
PRODID:-//http://airsoft-cad.si///NONSGML kigkonsult.se iCalcreator 2.10.15//
METHOD:PUBLISH
BEGIN:VEVENT
UID:20260419T163504CEST-2668rRnUJT@http://airsoft-cad.si/
DTSTAMP:20260419T143504Z
DESCRIPTION:Kaj: Občni zbor\nKdo: Člani CAD\nKje: Gasilski dom Gaberje\, Ma
 riborska cesta 80b\, Celje\nKdaj: Petek 24.1.2025\nZbor: 19:00\nZačetek: 1
 9:30\nKonec: 22:00\nPredlog dnevnega reda občnega zbora 24.1.2025 ob 19:00
 \n1. Poročilo 2024\n- Realizacija\n- Bilanca\n2.&nbsp\;Seznanitev z višino
  in načinom pobiranja članarin za 2025\n- Pobiranje članarine na licu mest
 a takoj po seznanitvi višine članarine&nbsp\;(med pobiranjem prispejo zamu
 dniki)\n3. Podelitev nagrad članom za leto 2025\n4. Podaljšanje in ponovna
  razdelitev (uradnih) vlog med člane\n- Hiter pregled statuta društva\n- U
 pravni odbor (Predlog: Marko\, Joker\, Kreča\, Patrik)\n- Disciplinska kom
 isija\n- Plani za naprej\n5.&nbsp\;Opredelitev\, dopolnitev in ponovna raz
 delitev (neuradnih) vlog med člane\n- Vodenje treningov (Joker\, ?)\n- Sti
 ki z javnostjo (?)\n- Pregled dogodkov (Marko\, Joker\, Ivan)\n6. Načrti 2
 025\n- Piknik\n- Zaključek\n- Dodogki z airsoft zvezo\n- AZS dogodek (Tade
 j)\n- Bojna skupina\n- Op. Poskok 13 (5.4 - 6.4)\n- Otok Brač\n- Op. Kanda
 har VII (11.4 - 13.4)\n- Op. Lizzard XVI (30.5 - 1.6)\n- Drugi predlogi\n7
 . Predpisana CAD oprema\n- Ponovitev trenutne aktualne predpisane opreme (
 Marko)\n- Ponovitev zaščitne opreme (Marko)\n- Ponovitev uporabe BIO BBjev
  (Marko)\n- PAWPERSO (Marko)\n- Ustanovitev komisije za izbor novih jaken
 \n8. Udeležba na treningih in dogodkih\n- Ohranjanje statusa društva na do
 godkih (ponovitev + novi predlog glede plačil)\n- Udeležba na treningih (f
 lyer\, promocija\, prijatelji)\n9. Stanje Airsoft Zveze Slovenije (AZS)\n1
 0. Razno\n- Udeležba na treningih\n- YT kanal\n&nbsp\;
DTSTART:20250124T190000Z
DTEND:20250124T220000Z
LOCATION:Gasilski dom Gaberje (Industrijska cona Celje - vzhod\, Mariborska
  cesta 80b\, 3000 Celje\, Slovenija)
SUMMARY:Občni zbor 2025
END:VEVENT
END:VCALENDAR
