BEGIN:VCALENDAR
VERSION:2.0
PRODID:-//http://airsoft-cad.si///NONSGML kigkonsult.se iCalcreator 2.10.15//
METHOD:PUBLISH
BEGIN:VEVENT
UID:20260419T150955CEST-5220KFzoh0@http://airsoft-cad.si/
DTSTAMP:20260419T130955Z
DESCRIPTION:Kaj: Nočni spopad\nKdo: člani CAD\, novinci in povabljeni gostj
 e\nKje: Lešje 8\, Škofja vas\nKdaj: Sobota\, 27.12.2025\nZbor: 19:00\nZače
 tek: 19:50\nKonec: ~01:00\nObvezna oprema:\n\nRdeča luč v primeru zadetka 
 (bodisi svetilka z rdečim filtrom bodisi lightstick bodisi dead rag čez na
 vadno luč)\nSvetilka na repliki ali tracer (Potrebna samo svetilka na repl
 iki! Tracer je opcijski)\nVžigalnik\nDobra volja\n\nV času streljanja je p
 otrebno osvetljevanje z svetilko ali uporaba tracer BB (100% mešanica). Ni
 ghtVision in TermoVIsion so dovoljeni z predhodno najavo organizatorju\, k
 i bo poskrbel za razmerje moči ekip.
DTSTART:20251227T190000Z
DTEND:20251228T020000Z
LOCATION:LEŠJE (Lešje 8\, 3211 Škofja vas\, Slovenija)
SUMMARY:NOČNI SPOPAD LEŠJE\, 27.12.2025 OB 19:00
END:VEVENT
END:VCALENDAR
