BEGIN:VCALENDAR
VERSION:2.0
PRODID:-//http://airsoft-cad.si///NONSGML kigkonsult.se iCalcreator 2.10.15//
METHOD:PUBLISH
BEGIN:VEVENT
UID:20260419T144558CEST-96978V5S6c@http://airsoft-cad.si/
DTSTAMP:20260419T124558Z
DESCRIPTION:Kaj: trening\nKdo: člani CAD in novinci\nKje:&nbsp\;Podgaj 6a\,
 &nbsp\;koordinate: 46.245184\, 15.450457\nKdaj: Nedelja\, 25.01.2026\nZbor
 : 7:30\nZačetek: 8:00\nKonec: ~12:00
DTSTART:20260125T073000Z
DTEND:20260125T120000Z
LOCATION:Podgaj PG (Podgaj 6a\, 3232 Ponikva\, Slovenija)
SUMMARY:TRENING PG\, 25.1.2026 OB 7:30
END:VEVENT
END:VCALENDAR
